BEGIN:VCALENDAR
VERSION:2.0
PRODID:-//ChamberMaster//Event Calendar 2.0//EN
METHOD:PUBLISH
X-PUBLISHED-TTL:P3D
REFRESH-INTERVAL:P3D
CALSCALE:GREGORIAN
BEGIN:VEVENT
DTSTART:20210622T133000Z
DTEND:20210622T143000Z
X-MICROSOFT-CDO-ALLDAYEVENT:FALSE
SUMMARY:Community Health Committee
DESCRIPTION:Speaker:  Dr. Julie Gonzalez\, ~Family Tree Chiropractic\n\n\n\nTopic:   Men's Health
X-ALT-DESC;FMTTYPE=text/html:<span style="font-size:18px\;"><strong>Speaker:&nbsp\;</strong> Dr. Julie Gonzalez\, ~Family Tree Chiropractic<br />\n<br />\n<strong>Topic:</strong>&nbsp\;&nbsp\; Men&#39\;s Health</span>
LOCATION:Cy-Fair Houston Chamber of Commerce Office 8711 Hwy. 6 North\, Suite 120 Houston\, TX 77095
UID:e.141.31959
SEQUENCE:3
DTSTAMP:20260421T131206Z
URL:https://public.cyfairchamber.com/events/details/community-health-committee-06-22-2021-31959
END:VEVENT

END:VCALENDAR
