BEGIN:VCALENDAR
VERSION:2.0
PRODID:-//ChamberMaster//Event Calendar 2.0//EN
METHOD:PUBLISH
X-PUBLISHED-TTL:P3D
REFRESH-INTERVAL:P3D
CALSCALE:GREGORIAN
BEGIN:VEVENT
DTSTART;VALUE=DATE:20230204
DTEND;VALUE=DATE:20230205
TRANSP:TRANSPARENT
X-MICROSOFT-CDO-ALLDAYEVENT:TRUE
SUMMARY:John Fox Chamber Herd 2023
DESCRIPTION:Rustle in 2023 with the John Fox Chamber Herd!  \n\n \n\n*Click the Register button to the right to Donate to the John Fox Chamber Herd or download the donation form here .*\n\n\n\nThe John Fox Chamber Herd was formed over 23 years ago with the sole purpose of purchasing animals exhibited at the Cypress-Fairbanks Independent School District FFA Livestock Show & Sale. The processed meat is then donated to local ministries. Your donation and your support of the following events can make a difference in the lives of these students and families in our community.\n\n\n\nPlease consider donating to the John Fox Chamber Herd today.\n\n\n\nSaturday\, February 4th\n\nCFISD FFA LIVESTOCK SHOW AND SALE\n\n\n\nThank you for your support\,\n\n \n\nDebbie Blackshear and Mark McShaffry\, Co-Chairs
X-ALT-DESC;FMTTYPE=text/html:<div><span style="font-family: tahoma\;"><span style="font-size: 14px\;"><span style="color: rgb(139\, 69\, 19)\;"><strong>Rustle in 2023&nbsp\;with the John Fox Chamber Herd!&nbsp\; </strong></span></span></span><br />\n&nbsp\;</div>\n\n<div><span style="font-family: tahoma\;"><strong>*Click the Register button to the right to Donate to the John Fox Chamber Herd or download the donation form <a href="https://chambermaster.blob.core.windows.net/userfiles/UserFiles/chambers/141/File/Chamber%20Herd/ChamberHerdDonationform2023-fillable.pdf">here</a> .*</strong><br />\n<br />\nThe John Fox Chamber Herd was formed over&nbsp\;23&nbsp\;years ago with the sole purpose of purchasing animals exhibited at the Cypress-Fairbanks Independent School District FFA Livestock Show &amp\; Sale. The processed meat is then donated to local ministries<em>. Your donation</em> and <em>your support</em> of the following events can make a difference in the lives of these students and families in our community.<br />\n<br />\n<strong>Please consider donating to the John Fox Chamber Herd today.</strong><br />\n<br />\n<span style="color: rgb(139\, 69\, 19)\;"><strong>Saturday\, February 4th<br />\nCFISD&nbsp\;FFA&nbsp\;LIVESTOCK SHOW AND SALE</strong></span><br />\n<br />\nThank you for your support\,</span></div>\n\n<div>&nbsp\;</div>\n\n<div><span style="font-family: tahoma\;">Debbie Blackshear and Mark McShaffry\, Co-Chairs</span></div>\n
LOCATION:Saturday\, February 4\, 2023 CFISD FFA LIVESTOCK SHOW AND SALE CFISD Exhibit Center 11206 Telge Rd. Cypress\, TX 77429
UID:e.141.36601
SEQUENCE:3
DTSTAMP:20260424T134130Z
URL:https://public.cyfairchamber.com/events/details/john-fox-chamber-herd-2023-36601
END:VEVENT

END:VCALENDAR
