BEGIN:VCALENDAR
VERSION:2.0
PRODID:-//ChamberMaster//Event Calendar 2.0//EN
METHOD:PUBLISH
X-PUBLISHED-TTL:P3D
REFRESH-INTERVAL:P3D
CALSCALE:GREGORIAN
BEGIN:VEVENT
DTSTART:20140610T124500Z
DTEND:20140610T143000Z
X-MICROSOFT-CDO-ALLDAYEVENT:FALSE
SUMMARY:Networking Breakfast at Cypress Assistance Ministries
DESCRIPTION:
X-ALT-DESC;FMTTYPE=text/html:
LOCATION:Time: 7:45am Tour 8:15am 9:30am Breakfast meeting BACKYARD SMOKEHOUSE (across the street) 11202 Huffmeister Door #1 (closest to Huffmeister Road) Houston\, Texas 77065 Please arrive a little earlier for a Tour of the CAM facility! Contact: Kelly Thomas 281.732.3874
UID:e.141.1544
SEQUENCE:3
DTSTAMP:20260422T114032Z
URL:https://public.cyfairchamber.com/events/details/networking-breakfast-at-cypress-assistance-ministries-06-10-2014-1544
END:VEVENT

END:VCALENDAR
