BEGIN:VCALENDAR
VERSION:2.0
PRODID:-//ChamberMaster//Event Calendar 2.0//EN
METHOD:PUBLISH
X-PUBLISHED-TTL:P3D
REFRESH-INTERVAL:P3D
CALSCALE:GREGORIAN
BEGIN:VEVENT
DTSTART:20150205T170000Z
DTEND:20150205T183000Z
X-MICROSOFT-CDO-ALLDAYEVENT:FALSE
SUMMARY:Ribbon Cutting at Peter Piper Pizza
DESCRIPTION:
X-ALT-DESC;FMTTYPE=text/html:
LOCATION:6127 Highway 6 North Houston\, TX 77095 Location is on the west side of Highway 6 between Kingfield Dr. and W. Little York.
UID:e.141.17736
SEQUENCE:3
DTSTAMP:20260421T044154Z
URL:https://public.cyfairchamber.com/events/details/ribbon-cutting-at-peter-piper-pizza-02-05-2015-17736
END:VEVENT

END:VCALENDAR
