BEGIN:VCALENDAR
VERSION:2.0
PRODID:-//ChamberMaster//Event Calendar 2.0//EN
METHOD:PUBLISH
X-PUBLISHED-TTL:P3D
REFRESH-INTERVAL:P3D
CALSCALE:GREGORIAN
BEGIN:VEVENT
DTSTART;VALUE=DATE:20260615
DTEND;VALUE=DATE:20260616
TRANSP:TRANSPARENT
X-MICROSOFT-CDO-ALLDAYEVENT:TRUE
SUMMARY:Sherwin Williams Paint Company Ribbon Cutting Ceremony
DESCRIPTION:We are excited to host a ribbon-cutting ceremony for our new Sherwin-Williams Bridgeland location on June 15th and would be honored to partner with the Chamber for this occasion. We look forward to welcoming community leaders\, local businesses\, and partners to help us celebrate our official opening and introduction to the Bridegland community.
X-ALT-DESC;FMTTYPE=text/html:We are excited to host a ribbon-cutting ceremony for our new Sherwin-Williams Bridgeland location on June 15th and would be honored to partner with the Chamber for this occasion. We look forward to welcoming community leaders\, local businesses\, and partners to help us celebrate our official opening and introduction to the Bridegland community.&nbsp\;
LOCATION:21910 West Rd\, Cypress TX 77433
UID:e.141.37645
SEQUENCE:3
DTSTAMP:20260421T015318Z
URL:https://public.cyfairchamber.com/events/details/sherwin-williams-paint-company-ribbon-cutting-ceremony-37645
END:VEVENT

END:VCALENDAR
