BEGIN:VCALENDAR
VERSION:2.0
PRODID:-//ChamberMaster//Event Calendar 2.0//EN
METHOD:PUBLISH
X-PUBLISHED-TTL:P3D
REFRESH-INTERVAL:P3D
CALSCALE:GREGORIAN
BEGIN:VEVENT
DTSTART:20150205T143000Z
DTEND:20150205T153000Z
X-MICROSOFT-CDO-ALLDAYEVENT:FALSE
SUMMARY:Transportation and Governmental Affairs Committee
DESCRIPTION:Speaker:   Robert Eckels\, Texas Central Railway\n\nTopic:   High-Speed Rail from Houston to Dallas
X-ALT-DESC;FMTTYPE=text/html:Speaker:&nbsp\;&nbsp\; Robert Eckels\, Texas Central Railway<br />\nTopic:&nbsp\;&nbsp\; High-Speed Rail from&nbsp\;Houston to Dallas
LOCATION:Cy-Fair Houston Chamber of Commerce 8711 Highway 6 North\, Ste. 120 Houston\, TX 77095
UID:e.141.6373
SEQUENCE:3
DTSTAMP:20260421T042318Z
URL:https://public.cyfairchamber.com/events/details/transportation-and-governmental-affairs-committee-02-05-2015-6373
END:VEVENT

END:VCALENDAR
